BEGIN:VCALENDAR
VERSION:2.0
PRODID:-//Avon Woods Neighborhood - ECPv6.15.20//NONSGML v1.0//EN
CALSCALE:GREGORIAN
METHOD:PUBLISH
X-ORIGINAL-URL:https://avonwoods.com
X-WR-CALDESC:Events for Avon Woods Neighborhood
REFRESH-INTERVAL;VALUE=DURATION:PT1H
X-Robots-Tag:noindex
X-PUBLISHED-TTL:PT1H
BEGIN:VTIMEZONE
TZID:America/Chicago
BEGIN:DAYLIGHT
TZOFFSETFROM:-0600
TZOFFSETTO:-0500
TZNAME:CDT
DTSTART:20230312T080000
END:DAYLIGHT
BEGIN:STANDARD
TZOFFSETFROM:-0500
TZOFFSETTO:-0600
TZNAME:CST
DTSTART:20231105T070000
END:STANDARD
BEGIN:DAYLIGHT
TZOFFSETFROM:-0600
TZOFFSETTO:-0500
TZNAME:CDT
DTSTART:20240310T080000
END:DAYLIGHT
BEGIN:STANDARD
TZOFFSETFROM:-0500
TZOFFSETTO:-0600
TZNAME:CST
DTSTART:20241103T070000
END:STANDARD
BEGIN:DAYLIGHT
TZOFFSETFROM:-0600
TZOFFSETTO:-0500
TZNAME:CDT
DTSTART:20250309T080000
END:DAYLIGHT
BEGIN:STANDARD
TZOFFSETFROM:-0500
TZOFFSETTO:-0600
TZNAME:CST
DTSTART:20251102T070000
END:STANDARD
END:VTIMEZONE
BEGIN:VEVENT
DTSTART;TZID=America/Chicago:20240822T180000
DTEND;TZID=America/Chicago:20240822T200000
DTSTAMP:20260422T214141
CREATED:20240621T144358Z
LAST-MODIFIED:20240709T113659Z
UID:3474-1724349600-1724356800@avonwoods.com
SUMMARY:August Food Truck Social
DESCRIPTION:Join your neighbors Thursday\, Aug. 22 at Avon Park for fried catfish and fellowship! Mr. Frazier’s Fish Fry food truck will be offering Catfish 3-Wayz — Crabby Smothered\, Sticky-Garlic Drizzled and Cajun Dipped — seasoned fries\, deep-fried corn on the cob\, Crabby Fries\, cole slaw and fried okra! Mr. Joe’s Ice Cream Truck will be there too! Bring a picnic blanket or chairs. Bring your family or friend. Bring cash\, debit/credit card or Venmo. And enjoy an evening together with your Avon Woods neighbors!
URL:https://avonwoods.com/event/august-food-truck-social/
LOCATION:Avon Park\, 310 N. Avon Rd.\, Memphis\, TN\, 38117\, United States
CATEGORIES:Food Truck Social
ATTACH;FMTTYPE=image/jpeg:https://avonwoods.com/wp-content/uploads/2024/06/mr-fraziers-fish-fry-0_1920x800.jpg
END:VEVENT
END:VCALENDAR