BEGIN:VCALENDAR
VERSION:2.0
PRODID:-//Avon Woods Neighborhood - ECPv6.15.20//NONSGML v1.0//EN
CALSCALE:GREGORIAN
METHOD:PUBLISH
X-ORIGINAL-URL:https://avonwoods.com
X-WR-CALDESC:Events for Avon Woods Neighborhood
REFRESH-INTERVAL;VALUE=DURATION:PT1H
X-Robots-Tag:noindex
X-PUBLISHED-TTL:PT1H
BEGIN:VTIMEZONE
TZID:America/Chicago
BEGIN:DAYLIGHT
TZOFFSETFROM:-0600
TZOFFSETTO:-0500
TZNAME:CDT
DTSTART:20230312T080000
END:DAYLIGHT
BEGIN:STANDARD
TZOFFSETFROM:-0500
TZOFFSETTO:-0600
TZNAME:CST
DTSTART:20231105T070000
END:STANDARD
BEGIN:DAYLIGHT
TZOFFSETFROM:-0600
TZOFFSETTO:-0500
TZNAME:CDT
DTSTART:20240310T080000
END:DAYLIGHT
BEGIN:STANDARD
TZOFFSETFROM:-0500
TZOFFSETTO:-0600
TZNAME:CST
DTSTART:20241103T070000
END:STANDARD
BEGIN:DAYLIGHT
TZOFFSETFROM:-0600
TZOFFSETTO:-0500
TZNAME:CDT
DTSTART:20250309T080000
END:DAYLIGHT
BEGIN:STANDARD
TZOFFSETFROM:-0500
TZOFFSETTO:-0600
TZNAME:CST
DTSTART:20251102T070000
END:STANDARD
END:VTIMEZONE
BEGIN:VEVENT
DTSTART;TZID=America/Chicago:20240718T180000
DTEND;TZID=America/Chicago:20240718T200000
DTSTAMP:20260422T214012
CREATED:20240616T232252Z
LAST-MODIFIED:20250311T133811Z
UID:3441-1721325600-1721332800@avonwoods.com
SUMMARY:July 2024 Food Truck Social
DESCRIPTION:TIME CHANGE: Rolling our start time back to 6:00PM due to the heat! Join your neighbors Thursday\, July 18 at Avon Park for Dutch treat dinner and fellowship al fresco! El Mero Taco food truck will be offering tacos\, quesadillas\, Mexican street corn — and margaritas\, too! Avon Woods’ own Mr. Joe’s Ice Cream Truck will be there too! Bring a picnic blanket or chairs. Bring your family or friend. Bring cash\, debit/credit card or Venmo. And enjoy an evening together with your Avon Woods neighbors!
URL:https://avonwoods.com/event/july-food-truck-social/
LOCATION:Avon Park\, 310 N. Avon Rd.\, Memphis\, TN\, 38117\, United States
CATEGORIES:Food Truck Social
ATTACH;FMTTYPE=image/jpeg:https://avonwoods.com/wp-content/uploads/2019/09/el-mero-taco-food-truck_1500x1000.jpg
END:VEVENT
END:VCALENDAR