BEGIN:VCALENDAR
VERSION:2.0
PRODID:-//Avon Woods Neighborhood - ECPv6.15.20//NONSGML v1.0//EN
CALSCALE:GREGORIAN
METHOD:PUBLISH
X-WR-CALNAME:Avon Woods Neighborhood
X-ORIGINAL-URL:https://avonwoods.com
X-WR-CALDESC:Events for Avon Woods Neighborhood
REFRESH-INTERVAL;VALUE=DURATION:PT1H
X-Robots-Tag:noindex
X-PUBLISHED-TTL:PT1H
BEGIN:VTIMEZONE
TZID:America/Chicago
BEGIN:DAYLIGHT
TZOFFSETFROM:-0600
TZOFFSETTO:-0500
TZNAME:CDT
DTSTART:20240310T080000
END:DAYLIGHT
BEGIN:STANDARD
TZOFFSETFROM:-0500
TZOFFSETTO:-0600
TZNAME:CST
DTSTART:20241103T070000
END:STANDARD
BEGIN:DAYLIGHT
TZOFFSETFROM:-0600
TZOFFSETTO:-0500
TZNAME:CDT
DTSTART:20250309T080000
END:DAYLIGHT
BEGIN:STANDARD
TZOFFSETFROM:-0500
TZOFFSETTO:-0600
TZNAME:CST
DTSTART:20251102T070000
END:STANDARD
BEGIN:DAYLIGHT
TZOFFSETFROM:-0600
TZOFFSETTO:-0500
TZNAME:CDT
DTSTART:20260308T080000
END:DAYLIGHT
BEGIN:STANDARD
TZOFFSETFROM:-0500
TZOFFSETTO:-0600
TZNAME:CST
DTSTART:20261101T070000
END:STANDARD
END:VTIMEZONE
BEGIN:VEVENT
DTSTART;TZID=America/Chicago:20251018T130000
DTEND;TZID=America/Chicago:20251018T160000
DTSTAMP:20260421T200125
CREATED:20250927T213119Z
LAST-MODIFIED:20251003T160605Z
UID:4234-1760792400-1760803200@avonwoods.com
SUMMARY:Fall Festival 2025
DESCRIPTION:Join your Avon Woods neighbors Saturday\, Oct. 18 from 1:00-4:00pm at Avon Park for our annual neighborhood Fall Festival. We will be serving charcoal-grilled hamburgers and hot dogs\, baked beans\, mac and cheese\, chips and cookies. Plus\, Mr. Joe’s Ice Cream Truck will be there selling frozen treats. \n\n\n\nActivities for the whole family include hayrides around the park\, a giant inflatable bouncy house for the kids\, pumpkin painting\, cornhole — and even a large screen TV so you can also enjoy the Fall football games! \n\n\n\nBottled water will be available\, but you are encouraged to bring your own beverages. Coolers are welcome. Bring chairs or picnic blankets. Dogs on leashes are welcome as well. \n\n\n\nRain Date: In the event of rain\, we will move the picnic to Sunday\, Oct. 19\, 1:00-4:00pm. Fingers crossed for good weather! \n\n\n\n \n\n\n\nMEMBERS EAT FREE! \n\n\n\nMeal tickets are FREE for dues-paying Avon Woods Neighborhood Association members\, up to 4 meal tickets for household members\, 1 meal ticket per individual member. Non-members and guests pay just $5. NOT A MEMBER? Become a member now (we accept checks or Venmo). Or pay your dues at the event (via cash\, check\, Venmo or credit card.)  \n\n\n\nVOLUNTEERS NEEDED! \n\n\n\nIt takes a crew to put on an event of this size\, and we still need volunteers to help with setup and takedown\, serving food\, collecting money\, and assisting with the hayrides and other games. If you’d like to help\, please contact us.
URL:https://avonwoods.com/event/annual-fall-festival-2025/
LOCATION:Avon Park\, 310 N. Avon Rd.\, Memphis\, TN\, 38117\, United States
CATEGORIES:Holiday
ATTACH;FMTTYPE=image/png:https://avonwoods.com/wp-content/uploads/2025/09/2025_fall_festival_feature_750x500.png
END:VEVENT
END:VCALENDAR