BEGIN:VCALENDAR
VERSION:2.0
PRODID:-//Avon Woods Neighborhood - ECPv6.15.20//NONSGML v1.0//EN
CALSCALE:GREGORIAN
METHOD:PUBLISH
X-ORIGINAL-URL:https://avonwoods.com
X-WR-CALDESC:Events for Avon Woods Neighborhood
REFRESH-INTERVAL;VALUE=DURATION:PT1H
X-Robots-Tag:noindex
X-PUBLISHED-TTL:PT1H
BEGIN:VTIMEZONE
TZID:America/Chicago
BEGIN:DAYLIGHT
TZOFFSETFROM:-0600
TZOFFSETTO:-0500
TZNAME:CDT
DTSTART:20230312T080000
END:DAYLIGHT
BEGIN:STANDARD
TZOFFSETFROM:-0500
TZOFFSETTO:-0600
TZNAME:CST
DTSTART:20231105T070000
END:STANDARD
BEGIN:DAYLIGHT
TZOFFSETFROM:-0600
TZOFFSETTO:-0500
TZNAME:CDT
DTSTART:20240310T080000
END:DAYLIGHT
BEGIN:STANDARD
TZOFFSETFROM:-0500
TZOFFSETTO:-0600
TZNAME:CST
DTSTART:20241103T070000
END:STANDARD
BEGIN:DAYLIGHT
TZOFFSETFROM:-0600
TZOFFSETTO:-0500
TZNAME:CDT
DTSTART:20250309T080000
END:DAYLIGHT
BEGIN:STANDARD
TZOFFSETFROM:-0500
TZOFFSETTO:-0600
TZNAME:CST
DTSTART:20251102T070000
END:STANDARD
END:VTIMEZONE
BEGIN:VEVENT
DTSTART;TZID=America/Chicago:20241019T130000
DTEND;TZID=America/Chicago:20241019T160000
DTSTAMP:20260422T171302
CREATED:20231014T201501Z
LAST-MODIFIED:20250311T133959Z
UID:2843-1729342800-1729353600@avonwoods.com
SUMMARY:Annual Fall Picnic 2024
DESCRIPTION:Join your Avon Woods neighbors Saturday\, Oct. 19 from 1:00-4:00pm at Avon Park for our annual neighborhood Fall Picnic. We will be serving charcoal-grilled hamburgers and hot dogs\, baked beans\, mac and cheese\, chips and cookies. Plus\, Mr. Joe’s Ice Cream Truck will be there selling frozen treats. \n\n\n\nActivities for the whole family include hayrides around the park\, a giant inflatable bouncy house for the kids\, pumpkin painting\, cornhole — and even a large screen TV so you can also enjoy the Fall football games! \n\n\n\nBottled water will be available\, but you are encouraged to bring your own beverages. Coolers are welcome. Bring chairs or picnic blankets. Dogs are leashes are welcome as well. \n\n\n\nRain Date: In the event of rain\, we will move the picnic to Sunday\, Oct. 20\, 1:00-4:00pm. Fingers crossed for good weather! \n\n\n\n \n\n\n\nMEMBERS EAT FREE! \n\n\n\nMeal tickets are FREE for dues-paying members\, up to 4 meal tickets for household members\, 1 meal ticket per individual member. Non-members and guests pay just $5. \n\n\n\nVOLUNTEERS NEEDED! \n\n\n\nIt takes a crew to put on an event of this size\, and we still need volunteers to help with setup and takedown\, serving food\, collecting money\, and assisting with the hayrides and other games. If you’d like to help\, please contact us.
URL:https://avonwoods.com/event/avon-woods-fall-picnic/
LOCATION:Avon Park\, 310 N. Avon Rd.\, Memphis\, TN\, 38117\, United States
CATEGORIES:Holiday
ATTACH;FMTTYPE=image/png:https://avonwoods.com/wp-content/uploads/2023/10/avon-woods-fall-picnic-2024-featured-image_900x900.png
END:VEVENT
BEGIN:VEVENT
DTSTART;TZID=America/Chicago:20241026T080000
DTEND;TZID=America/Chicago:20241026T100000
DTSTAMP:20260422T171302
CREATED:20241013T213806Z
LAST-MODIFIED:20250311T134014Z
UID:3678-1729929600-1729936800@avonwoods.com
SUMMARY:Coffee & Donuts in the Cove October 2024
DESCRIPTION:Wake up and start the weekend with your Avon Woods neighbors at Coffee & Donuts in the Cove — an all-new neighborhood event! DonutNV\, a mini donut shop on wheels owned by our neighbor Dana Woods will be serving up hot or iced NVous Coffee and mini donuts cooked before your very eyes and piled high with your choice of toppings — glazed\, powdered sugar\, cinnamon sugar\, Oreo\, French toast\, chocolate caramel\, Fruity Pebbles\, rainbow sprinkles\, and more! Even special Fall flavors\, Pumpkin Roll and Poison Apple topping. \n\n\n\nIf hot or iced coffee isn’t your cup ‘o tea\, DonutNV will also be serving hot chocolate and their fresh-squeezed lemonade with 7 flavor options! \n\n\n\nSaturday morning\, Oct. 26\, we will be in the cove where Pinewood Street ends at Avon Park from 8:00–10:00am. Bring your family\, bring a friend\, bring a blanket or lawn chairs and come get to know your neighbors with a sweet start to your day. \n\n\n\nNOTE: Please be considerate of our neighbors on Pinewood Street and park in the school parking lot and avoid parking in the cove. Thank you.
URL:https://avonwoods.com/event/coffee-donuts-in-the-cove/
LOCATION:Avon Park\, 310 N. Avon Rd.\, Memphis\, TN\, 38117\, United States
CATEGORIES:Food Truck Social
ATTACH;FMTTYPE=image/webp:https://avonwoods.com/wp-content/uploads/2024/10/donutnv-header-image_750x500.webp
END:VEVENT
END:VCALENDAR