BEGIN:VCALENDAR
VERSION:2.0
PRODID:-//Avon Woods Neighborhood - ECPv6.15.20//NONSGML v1.0//EN
CALSCALE:GREGORIAN
METHOD:PUBLISH
X-WR-CALNAME:Avon Woods Neighborhood
X-ORIGINAL-URL:https://avonwoods.com
X-WR-CALDESC:Events for Avon Woods Neighborhood
REFRESH-INTERVAL;VALUE=DURATION:PT1H
X-Robots-Tag:noindex
X-PUBLISHED-TTL:PT1H
BEGIN:VTIMEZONE
TZID:America/Chicago
BEGIN:DAYLIGHT
TZOFFSETFROM:-0600
TZOFFSETTO:-0500
TZNAME:CDT
DTSTART:20220313T080000
END:DAYLIGHT
BEGIN:STANDARD
TZOFFSETFROM:-0500
TZOFFSETTO:-0600
TZNAME:CST
DTSTART:20221106T070000
END:STANDARD
BEGIN:DAYLIGHT
TZOFFSETFROM:-0600
TZOFFSETTO:-0500
TZNAME:CDT
DTSTART:20230312T080000
END:DAYLIGHT
BEGIN:STANDARD
TZOFFSETFROM:-0500
TZOFFSETTO:-0600
TZNAME:CST
DTSTART:20231105T070000
END:STANDARD
BEGIN:DAYLIGHT
TZOFFSETFROM:-0600
TZOFFSETTO:-0500
TZNAME:CDT
DTSTART:20240310T080000
END:DAYLIGHT
BEGIN:STANDARD
TZOFFSETFROM:-0500
TZOFFSETTO:-0600
TZNAME:CST
DTSTART:20241103T070000
END:STANDARD
BEGIN:DAYLIGHT
TZOFFSETFROM:-0600
TZOFFSETTO:-0500
TZNAME:CDT
DTSTART:20250309T080000
END:DAYLIGHT
BEGIN:STANDARD
TZOFFSETFROM:-0500
TZOFFSETTO:-0600
TZNAME:CST
DTSTART:20251102T070000
END:STANDARD
END:VTIMEZONE
BEGIN:VEVENT
DTSTART;TZID=America/Chicago:20240321T183000
DTEND;TZID=America/Chicago:20240321T193000
DTSTAMP:20260421T183509
CREATED:20240306T201416Z
LAST-MODIFIED:20240321T172905Z
UID:3104-1711045800-1711049400@avonwoods.com
SUMMARY:Neighborhood Watch Kick-off
DESCRIPTION:Crime is no longer something that happens to someone else\, in some other neighborhood. We are all affected by it. It’s time we band together as Avon Woods neighbors to do something. Join us the evening of Thursday\, March 21\, at White Station Elementary as we kick-off our efforts to form an Avon Woods Neighborhood Watch. \n\n\n\nNeighborhood Watch is a crime prevention program that enlists the participation of residents in cooperation with the Memphis Police Department to reduce crime\, improve the quality of life\, and establish a sense of well-being by watching out for one another in our area. The Neighborhood Watch Program is a highly successful effort and proven deterrent to crime that has been in existence for more than 50 years in cities and counties across America — and several neighborhoods throughout Memphis. There is no cost to join. \n\n\n\nWe will be joined by a Neighborhood Watch representative from the Memphis Police Department\, who will introduce us to the basics of forming an official Neighborhood Watch. The program will provide crime prevention education and awareness\, personal property identification\, and home security tactics. \n\n\n\nWe will discuss your neighborhood concerns\, develop an action plan\, and begin to identify block captains for each street section in Avon Woods. \n\n\n\n\n\n\n\nPlease join us in the library at White Station Elementary\, 4840 Chickasaw Rd.\, graciously opened to us by Principal Bradley K. Breeden. Please park and enter the building through the entrance facing the west parking lot behind Avon School. \n\n\n\nHelp spread the news. Post a link to this page on social media\, email or text the link to your neighbors. \n\n\n\n\nThe best crime awareness device ever invented is a good neighbor. \nNeighborhood Watch
URL:https://avonwoods.com/event/neighborhood-watch-kick-off/
LOCATION:White Station Elementary School\, 4840 Chickasaw Rd\, Memphis\, Tennessee\, 38117\, United States
CATEGORIES:Neighborhood Watch
ATTACH;FMTTYPE=image/jpeg:https://avonwoods.com/wp-content/uploads/2024/02/neighborhood-watch.jpg
END:VEVENT
BEGIN:VEVENT
DTSTART;TZID=America/Chicago:20230824T173000
DTEND;TZID=America/Chicago:20230824T193000
DTSTAMP:20260421T183509
CREATED:20230729T133434Z
LAST-MODIFIED:20250311T133855Z
UID:2825-1692898200-1692905400@avonwoods.com
SUMMARY:August 2023 Food Truck Social
DESCRIPTION:Please join us for a neighborhood food truck night on Thursday\, Aug. 24\, from 5:30 to 7:30pm. The Green Beetle food truck was such a hit last time — even during a constant downpour — that we thought we would bring them back in hopes for better weather! Memphis’s oldest tavern (established 1939)\, The Green Beetle now brings their Southern-influenced comfort food to you with some favorites from their South Main Street Memphis landmark\, like Bacon BBQ Burger\, Smoked Chicken Sandwich and Dirty Bird Fries. \n\n\n\nSave room for dessert! Our very own neighbor\, Mr. Joe’s Ice Cream truck will be selling cold sweet treats as well. \n\n\n\nPlease bring a chair or picnic blanket\, and come out for a little while to get to know your Avon Woods neighbors!
URL:https://avonwoods.com/event/august-food-truck-social-2023/
LOCATION:TN
CATEGORIES:Food Truck Social
ATTACH;FMTTYPE=image/jpeg:https://avonwoods.com/wp-content/uploads/2023/07/green-beetle-food-truck.jpg
END:VEVENT
BEGIN:VEVENT
DTSTART;TZID=America/Chicago:20230704T050000
DTEND;TZID=America/Chicago:20230704T070000
DTSTAMP:20260421T183509
CREATED:20230624T175017Z
LAST-MODIFIED:20240310T134506Z
UID:2463-1688446800-1688454000@avonwoods.com
SUMMARY:Fourth of July Parade 2023
DESCRIPTION:[ngg src=”galleries” ids=”1″ display=”basic_slideshow”]Celebrate Independence Day with your Avon Woods neighbors! We will begin gathering at 9:30am in front of Avon School and begin the parade around the neighborhood at 10am. Families\, children\, dogs (on leashes\, please)\, antique cars\, strollers\, bikes\, skates\, decorations — bring it all and show your patriotism! Come and enjoy:\n\n 	Music\n 	Mr. Joe’s Ice Cream Truck ($3-5 per treat)\n 	Post-parade hot dogs\, chips and bottled water\n 	Post-parade bouncy house inflatable (until approx. 1pm)\n\nBecome a Member — This is when we encourage folks to renew their Avon Wood Neighborhood commitment. Your dues help fund neighborhood communications (like this website!) and events throughout the year.\n\n 	Per household: $30/year\n 	Individual: $20/year\n 	Make checks payable to: Avon Neighborhood
URL:https://avonwoods.com/event/fourth-of-july-parade-2023/
LOCATION:Avon School\, 310 Avon Rd.\, Memphis\, TN\, 38117\, United States
CATEGORIES:Holiday
ATTACH;FMTTYPE=image/jpeg:https://avonwoods.com/wp-content/uploads/2023/06/IMG_1554.jpg
END:VEVENT
BEGIN:VEVENT
DTSTART;TZID=America/Chicago:20230621T173000
DTEND;TZID=America/Chicago:20230621T193000
DTSTAMP:20260421T183509
CREATED:20190917T143047Z
LAST-MODIFIED:20250311T133913Z
UID:1946-1687368600-1687375800@avonwoods.com
SUMMARY:June 2023 Food Truck Social
DESCRIPTION:Join your neighbors Wednesday evening at Avon Park for Dutch treat dinner and fellowship al fresco! El Mero Taco food truck will be offering tacos\, quesadillas\, Mexican street corn — and margaritas\, too! Avon Woods’ own Mr. Joe’s Ice Cream Truck will be there too! Bring a picnic blanket or chairs. Bring your family or friend. Bring cash\, debit/credit card or Venmo. And enjoy an evening together with your Avon Woods neighbors!
URL:https://avonwoods.com/event/food-truck-social-june-2023/
LOCATION:Avon Park\, 310 N. Avon Rd.\, Memphis\, TN\, 38117\, United States
CATEGORIES:Food Truck Social
ATTACH;FMTTYPE=image/jpeg:https://avonwoods.com/wp-content/uploads/2019/09/el-mero-taco-food-truck_1500x1000.jpg
END:VEVENT
END:VCALENDAR