BEGIN:VCALENDAR
VERSION:2.0
PRODID:-//Avon Woods Neighborhood - ECPv6.15.20//NONSGML v1.0//EN
CALSCALE:GREGORIAN
METHOD:PUBLISH
X-WR-CALNAME:Avon Woods Neighborhood
X-ORIGINAL-URL:https://avonwoods.com
X-WR-CALDESC:Events for Avon Woods Neighborhood
REFRESH-INTERVAL;VALUE=DURATION:PT1H
X-Robots-Tag:noindex
X-PUBLISHED-TTL:PT1H
BEGIN:VTIMEZONE
TZID:America/Chicago
BEGIN:DAYLIGHT
TZOFFSETFROM:-0600
TZOFFSETTO:-0500
TZNAME:CDT
DTSTART:20250309T080000
END:DAYLIGHT
BEGIN:STANDARD
TZOFFSETFROM:-0500
TZOFFSETTO:-0600
TZNAME:CST
DTSTART:20251102T070000
END:STANDARD
BEGIN:DAYLIGHT
TZOFFSETFROM:-0600
TZOFFSETTO:-0500
TZNAME:CDT
DTSTART:20260308T080000
END:DAYLIGHT
BEGIN:STANDARD
TZOFFSETFROM:-0500
TZOFFSETTO:-0600
TZNAME:CST
DTSTART:20261101T070000
END:STANDARD
BEGIN:DAYLIGHT
TZOFFSETFROM:-0600
TZOFFSETTO:-0500
TZNAME:CDT
DTSTART:20270314T080000
END:DAYLIGHT
BEGIN:STANDARD
TZOFFSETFROM:-0500
TZOFFSETTO:-0600
TZNAME:CST
DTSTART:20271107T070000
END:STANDARD
END:VTIMEZONE
BEGIN:VEVENT
DTSTART;TZID=America/Chicago:20260618T173000
DTEND;TZID=America/Chicago:20260618T193000
DTSTAMP:20260421T210926
CREATED:20260413T221752Z
LAST-MODIFIED:20260413T222801Z
UID:4696-1781803800-1781811000@avonwoods.com
SUMMARY:Food Truck Social — June 18\, 2026
DESCRIPTION:SAY CHEESE!\n\n\n\nIs there anything more comforting than a classic grilled cheese? Enjoy a modern version of this childhood favorite with your neighbors Thursday\, June 18 at Avon Park. Say Cheese! food truck will be offering gourmet variations of grilled cheese sandwiches\, including Cluck Me! Buffalo Chicken and Pepper Jack on Sourdough Bread\, Brisket with Caramelized Onion and Provolone on Texas Toast\, Pizza Melt with Pepperoni and Mozzarella\, or Sweet Little Muenster with Rosemary Infused Apple Jelly\, and much more! \n\n\n\nPlus — Mr. Joe’s Ice Cream will be serving up frozen treats to cool you off! \n\n\n\nBring a picnic blanket or chairs. Bring your family or friend. Bring cash\, debit/credit card or Venmo. And enjoy an evening together with your Avon Woods neighbors!
URL:https://avonwoods.com/event/food-truck-social-june-18-2026/
LOCATION:Avon Park\, 310 N. Avon Rd.\, Memphis\, TN\, 38117\, United States
CATEGORIES:Food Truck Social
ATTACH;FMTTYPE=image/webp:https://avonwoods.com/wp-content/uploads/2025/04/sandwiches-on-grill_1500x1000.webp
END:VEVENT
BEGIN:VEVENT
DTSTART;TZID=America/Chicago:20260723T173000
DTEND;TZID=America/Chicago:20260723T193000
DTSTAMP:20260421T210926
CREATED:20260413T232122Z
LAST-MODIFIED:20260413T233541Z
UID:4702-1784827800-1784835000@avonwoods.com
SUMMARY:Food Truck Social — July 23\, 2026
DESCRIPTION:TO BE DETERMINED\n\n\n\nCheck back to see what food truck will be lined up for the July Food Truck Social in Avon Park. \n\n\n\nYou can always count on Mr. Joe’s Ice Cream to be there\, serving up frozen treats to cool you off! \n\n\n\nBring a picnic blanket or chairs. Bring your family or friend. Bring cash\, debit/credit card or Venmo. And enjoy an evening together with your Avon Woods neighbors!
URL:https://avonwoods.com/event/food-truck-social-july-23-2026/
LOCATION:Avon Park\, 310 N. Avon Rd.\, Memphis\, TN\, 38117\, United States
CATEGORIES:Food Truck Social
ATTACH;FMTTYPE=image/webp:https://avonwoods.com/wp-content/uploads/2026/04/food-truck-socials-banner_1920x940.webp
END:VEVENT
BEGIN:VEVENT
DTSTART;TZID=America/Chicago:20260820T173000
DTEND;TZID=America/Chicago:20260820T193000
DTSTAMP:20260421T210926
CREATED:20260413T233204Z
LAST-MODIFIED:20260413T233446Z
UID:4704-1787247000-1787254200@avonwoods.com
SUMMARY:Food Truck Social — Aug. 20\, 2026
DESCRIPTION:SOI NUMBER 9\n\n\n\nAuthentic\, accessible and affordable Thai street food in Avon Park\, Thursday\, Aug. 20\, courtesy of Soi Number 9. Choose from chicken\, tofu\, curry and fish rice or noodle bowls. Plus\, extras including crunchy spring rolls\, potstickers\, fried tofu squares and more. Wash it down with Thai iced tea\, iced Thai coffee\, soft drinks or bottled water. \n\n\n\nAnd you know it — Mr. Joe’s Ice Cream will be there\, serving up frozen treats to cool you off! \n\n\n\nBring a picnic blanket or chairs. Bring your family or friend. Bring cash\, debit/credit card or Venmo. And enjoy an evening together with your Avon Woods neighbors!
URL:https://avonwoods.com/event/food-truck-social-aug-20-2026/
LOCATION:Avon Park\, 310 N. Avon Rd.\, Memphis\, TN\, 38117\, United States
CATEGORIES:Food Truck Social
ATTACH;FMTTYPE=image/webp:https://avonwoods.com/wp-content/uploads/2026/04/soi-number-9-ramen-bowl_1920x940.webp
END:VEVENT
END:VCALENDAR