BEGIN:VCALENDAR
VERSION:2.0
PRODID:-//Avon Woods Neighborhood - ECPv6.15.20//NONSGML v1.0//EN
CALSCALE:GREGORIAN
METHOD:PUBLISH
X-ORIGINAL-URL:https://avonwoods.com
X-WR-CALDESC:Events for Avon Woods Neighborhood
REFRESH-INTERVAL;VALUE=DURATION:PT1H
X-Robots-Tag:noindex
X-PUBLISHED-TTL:PT1H
BEGIN:VTIMEZONE
TZID:America/Chicago
BEGIN:DAYLIGHT
TZOFFSETFROM:-0600
TZOFFSETTO:-0500
TZNAME:CDT
DTSTART:20230312T080000
END:DAYLIGHT
BEGIN:STANDARD
TZOFFSETFROM:-0500
TZOFFSETTO:-0600
TZNAME:CST
DTSTART:20231105T070000
END:STANDARD
BEGIN:DAYLIGHT
TZOFFSETFROM:-0600
TZOFFSETTO:-0500
TZNAME:CDT
DTSTART:20240310T080000
END:DAYLIGHT
BEGIN:STANDARD
TZOFFSETFROM:-0500
TZOFFSETTO:-0600
TZNAME:CST
DTSTART:20241103T070000
END:STANDARD
BEGIN:DAYLIGHT
TZOFFSETFROM:-0600
TZOFFSETTO:-0500
TZNAME:CDT
DTSTART:20250309T080000
END:DAYLIGHT
BEGIN:STANDARD
TZOFFSETFROM:-0500
TZOFFSETTO:-0600
TZNAME:CST
DTSTART:20251102T070000
END:STANDARD
END:VTIMEZONE
BEGIN:VEVENT
DTSTART;TZID=America/Chicago:20240704T093000
DTEND;TZID=America/Chicago:20240704T130000
DTSTAMP:20260424T100217
CREATED:20240616T200440Z
LAST-MODIFIED:20240618T023857Z
UID:3399-1720085400-1720098000@avonwoods.com
SUMMARY:Fourth of July Parade 2024
DESCRIPTION:Celebrate Independence Day with your Avon Woods neighbors! We will gather at 9:30am in front of Avon School and begin the parade around the neighborhood at 10am. Join the parade! Families\, children\, dogs (on leashes\, please)\, antique cars\, strollers\, and bicycles/tricycles are invited to join — decked out in our best Yankee Doodle Dandy decorations! Come and enjoy: \n\nMusic\nPost-parade hot dogs\, chips and bottled water\nPost-parade bouncy house inflatable (until approx. 1pm)\nMemphis Fire Department fire truck – with water spray to cool off!\nHook Point Brewery – offering samples of their new Original Glory beer\nMr. Joe’s Ice Cream ($3-5 per treat)\nAvon Woods Neighborhood Association information table\n\nNew This Year\nShow your Avon Woods pride with Avon Woods branded merchandise\, including special Fourth of July Parade & Picnic t-shirts. View the Fourth of July collection\, and order by Monday\, June 24\, for standard delivery by July 4. (Expedited delivery available if you miss the cut-off date.) \n \nPay Your Annual Dues\nBecome a Member — This is when we encourage folks to renew their Avon Wood Neighborhood commitment. Your dues help fund neighborhood communications (like this website!) and events throughout the year. \n\nPer household: $30/year\nIndividual: $20/year\nMake checks payable to: Avon Neighborhood\, and delivery to Derrick or Amanda Von Stein\, 525 Princeton Cove\nOr\, pay conveniently via Venmo. Just scan this QR code using your Venmo mobile app:
URL:https://avonwoods.com/event/fourth-of-july-parade-2024/
LOCATION:Avon School\, 310 Avon Rd.\, Memphis\, TN\, 38117\, United States
CATEGORIES:Holiday
ATTACH;FMTTYPE=image/jpeg:https://avonwoods.com/wp-content/uploads/2024/02/IMG_8265.jpg
END:VEVENT
END:VCALENDAR