BEGIN:VCALENDAR
VERSION:2.0
PRODID:-//Avon Woods Neighborhood - ECPv6.15.20//NONSGML v1.0//EN
CALSCALE:GREGORIAN
METHOD:PUBLISH
X-WR-CALNAME:Avon Woods Neighborhood
X-ORIGINAL-URL:https://avonwoods.com
X-WR-CALDESC:Events for Avon Woods Neighborhood
REFRESH-INTERVAL;VALUE=DURATION:PT1H
X-Robots-Tag:noindex
X-PUBLISHED-TTL:PT1H
BEGIN:VTIMEZONE
TZID:America/Chicago
BEGIN:DAYLIGHT
TZOFFSETFROM:-0600
TZOFFSETTO:-0500
TZNAME:CDT
DTSTART:20250309T080000
END:DAYLIGHT
BEGIN:STANDARD
TZOFFSETFROM:-0500
TZOFFSETTO:-0600
TZNAME:CST
DTSTART:20251102T070000
END:STANDARD
BEGIN:DAYLIGHT
TZOFFSETFROM:-0600
TZOFFSETTO:-0500
TZNAME:CDT
DTSTART:20260308T080000
END:DAYLIGHT
BEGIN:STANDARD
TZOFFSETFROM:-0500
TZOFFSETTO:-0600
TZNAME:CST
DTSTART:20261101T070000
END:STANDARD
BEGIN:DAYLIGHT
TZOFFSETFROM:-0600
TZOFFSETTO:-0500
TZNAME:CDT
DTSTART:20270314T080000
END:DAYLIGHT
BEGIN:STANDARD
TZOFFSETFROM:-0500
TZOFFSETTO:-0600
TZNAME:CST
DTSTART:20271107T070000
END:STANDARD
END:VTIMEZONE
BEGIN:VEVENT
DTSTART;TZID=America/Chicago:20260521T173000
DTEND;TZID=America/Chicago:20260521T193000
DTSTAMP:20260421T065634
CREATED:20260413T221620Z
LAST-MODIFIED:20260413T222857Z
UID:4694-1779384600-1779391800@avonwoods.com
SUMMARY:Food Truck Social — May 21\, 2026
DESCRIPTION:EL MERO TACO\n\n\n\nJoin your neighbors for Taco Thursday! May 21st at Avon Park ! El Mero Taco food truck will be offering tacos\, quesadillas\, and more! Choose from slowly smoked brisket with chimichurri sauce to Cajun blackened shrimp to Southern fried chicken — and don’t forget the Mexican street corn\, chicaharrones or chips and queso — and margaritas\, too! Mr. Joe’s Ice Cream will be serving up frozen treats to cool you off! \n\n\n\nBring a picnic blanket or chairs. Bring your family or friend. Bring cash\, debit/credit card or Venmo. And enjoy an evening together with your Avon Woods neighbors!
URL:https://avonwoods.com/event/food-truck-social-may-21-2026/
LOCATION:Avon Park\, 310 N. Avon Rd.\, Memphis\, TN\, 38117\, United States
CATEGORIES:Food Truck Social
ATTACH;FMTTYPE=image/jpeg:https://avonwoods.com/wp-content/uploads/2019/09/el-mero-taco-food-truck_1500x1000.jpg
END:VEVENT
END:VCALENDAR