BEGIN:VCALENDAR
VERSION:2.0
PRODID:-//Avon Woods Neighborhood - ECPv6.15.20//NONSGML v1.0//EN
CALSCALE:GREGORIAN
METHOD:PUBLISH
X-WR-CALNAME:Avon Woods Neighborhood
X-ORIGINAL-URL:https://avonwoods.com
X-WR-CALDESC:Events for Avon Woods Neighborhood
REFRESH-INTERVAL;VALUE=DURATION:PT1H
X-Robots-Tag:noindex
X-PUBLISHED-TTL:PT1H
BEGIN:VTIMEZONE
TZID:America/Chicago
BEGIN:DAYLIGHT
TZOFFSETFROM:-0600
TZOFFSETTO:-0500
TZNAME:CDT
DTSTART:20240310T080000
END:DAYLIGHT
BEGIN:STANDARD
TZOFFSETFROM:-0500
TZOFFSETTO:-0600
TZNAME:CST
DTSTART:20241103T070000
END:STANDARD
BEGIN:DAYLIGHT
TZOFFSETFROM:-0600
TZOFFSETTO:-0500
TZNAME:CDT
DTSTART:20250309T080000
END:DAYLIGHT
BEGIN:STANDARD
TZOFFSETFROM:-0500
TZOFFSETTO:-0600
TZNAME:CST
DTSTART:20251102T070000
END:STANDARD
BEGIN:DAYLIGHT
TZOFFSETFROM:-0600
TZOFFSETTO:-0500
TZNAME:CDT
DTSTART:20260308T080000
END:DAYLIGHT
BEGIN:STANDARD
TZOFFSETFROM:-0500
TZOFFSETTO:-0600
TZNAME:CST
DTSTART:20261101T070000
END:STANDARD
END:VTIMEZONE
BEGIN:VEVENT
DTSTART;TZID=America/Chicago:20250724T173000
DTEND;TZID=America/Chicago:20250724T193000
DTSTAMP:20260421T223239
CREATED:20250402T195317Z
LAST-MODIFIED:20250716T174136Z
UID:3844-1753378200-1753385400@avonwoods.com
SUMMARY:Food Truck Social – July 2025
DESCRIPTION:YIPPIE TRIPPIE & THE PORKSTARS\n\n\n\nOn the heels of our Annual Avon Woods Fourth of July Parade\, we’ll gather again at Avon Park for newcomer to our food truck lineup. Yippie Trippie & The Porkstars infuse Southern and Creole dishes with a smoky twist and offer a wide variety of exquisite cuisines. The menu varies\, but expect delicacies like Chilled Lobster Bisque\, Ragin Cajun Shrimp & Smoked Gouda Grits\, Chicken Caesar Salad\, Smoked Salmon Southwest Salad\, and vegan options as well. Bring a picnic blanket or chairs. Bring your family or friend. Bring cash\, debit/credit card or Venmo. And enjoy an evening together with your Avon Woods neighbors!
URL:https://avonwoods.com/event/food-truck-social-july-2025/
LOCATION:Avon Park\, 310 N. Avon Rd.\, Memphis\, TN\, 38117\, United States
CATEGORIES:Food Truck Social
ATTACH;FMTTYPE=image/webp:https://avonwoods.com/wp-content/uploads/2025/04/yippie-trippie-triptict-feature_1500x1000.webp
END:VEVENT
END:VCALENDAR