BEGIN:VCALENDAR
VERSION:2.0
PRODID:-//Avon Woods Neighborhood - ECPv6.15.20//NONSGML v1.0//EN
CALSCALE:GREGORIAN
METHOD:PUBLISH
X-WR-CALNAME:Avon Woods Neighborhood
X-ORIGINAL-URL:https://avonwoods.com
X-WR-CALDESC:Events for Avon Woods Neighborhood
REFRESH-INTERVAL;VALUE=DURATION:PT1H
X-Robots-Tag:noindex
X-PUBLISHED-TTL:PT1H
BEGIN:VTIMEZONE
TZID:America/Chicago
BEGIN:DAYLIGHT
TZOFFSETFROM:-0600
TZOFFSETTO:-0500
TZNAME:CDT
DTSTART:20240310T080000
END:DAYLIGHT
BEGIN:STANDARD
TZOFFSETFROM:-0500
TZOFFSETTO:-0600
TZNAME:CST
DTSTART:20241103T070000
END:STANDARD
BEGIN:DAYLIGHT
TZOFFSETFROM:-0600
TZOFFSETTO:-0500
TZNAME:CDT
DTSTART:20250309T080000
END:DAYLIGHT
BEGIN:STANDARD
TZOFFSETFROM:-0500
TZOFFSETTO:-0600
TZNAME:CST
DTSTART:20251102T070000
END:STANDARD
BEGIN:DAYLIGHT
TZOFFSETFROM:-0600
TZOFFSETTO:-0500
TZNAME:CDT
DTSTART:20260308T080000
END:DAYLIGHT
BEGIN:STANDARD
TZOFFSETFROM:-0500
TZOFFSETTO:-0600
TZNAME:CST
DTSTART:20261101T070000
END:STANDARD
END:VTIMEZONE
BEGIN:VEVENT
DTSTART;TZID=America/Chicago:20250605T183000
DTEND;TZID=America/Chicago:20250605T193000
DTSTAMP:20260422T050640
CREATED:20250522T172634Z
LAST-MODIFIED:20250522T175048Z
UID:3881-1749148200-1749151800@avonwoods.com
SUMMARY:Neighborhood Watch Quarterly Meeting Q2 2025
DESCRIPTION:Join us Thursday\, June 5 at 6:30pm for second quarter meeting of Avon Woods Neighborhood Watch at Independent Presbyterian Church. \n\n\n\nAGENDA\n\n\n\n\nArea Crime Report: Learn about crime incidents reported by Avon Woods block captains\, block captain coverage and opportunities.\n\n\n\nMPD Crime Prevention Grant: Update on how we’re using the $2500 grant from MPD.\n\n\n\nCommunity Voices Session: A structured brainstorming session allowing you to voice your concerns\, ideas and suggestions.\n\n\n\nUpcoming Events: Be among the first to hear of upcoming neighborhood events\, including plans for our Annual Fourth of July Parade and Picnic\, National Night Out and Q3 Neighborhood Watch Meeting.\n\n\n\nFREE Gift: If you haven’t got yours yet\, Avon Woods “Useful Numbers” refrigerator magnets will be distributed courtesy of Avon Woods Neighborhood Association.\n\n\n\n\nThis is your Avon Woods Neighborhood Watch. Come\, learn\, get to know your neighbors and get involved to help keep Avon Woods safe. \n\n\n\nNeighborhood Watch is a crime prevention program that enlists the participation of residents in cooperation with the Memphis Police Department to reduce crime\, improve the quality of life\, and establish a sense of well-being by watching out for one another in our area. The Neighborhood Watch Program is a highly successful effort and proven deterrent to crime that has been in existence for more than 50 years in cities and counties across America — and several neighborhoods throughout Memphis.  \n\n\n\n \n\n\n\nHelp spread the news\n\n\n\nPost a link to this page on social media\, email or text the link to your neighbors. Not already on our mailing list? Sign up here. \n\n\n\n \n\n\n\nDIRECTIONS: Enter Independent Presbyterian parking lot via gate on Walnut Grove Road. Enter building main entrance. We will meet in the Fellowship Hall\, through the front lobby and to your left. \n\n\n\n\nThe best crime awareness device ever invented is a good neighbor. \nNeighborhood Watch
URL:https://avonwoods.com/event/neighborhood-watch-quarterly-meeting-q2-2025/
LOCATION:Independent Presbyterian Church\, 4738 Walnut Grove Rd.\, Memphis\, TN\, 38117\, United States
CATEGORIES:Neighborhood Watch
ATTACH;FMTTYPE=image/webp:https://avonwoods.com/wp-content/uploads/2025/05/neighborhood-watch-meeting-2025-Q2-feature_750x500-01.webp
END:VEVENT
END:VCALENDAR