BEGIN:VCALENDAR
VERSION:2.0
PRODID:-//Avon Woods Neighborhood - ECPv6.15.20//NONSGML v1.0//EN
CALSCALE:GREGORIAN
METHOD:PUBLISH
X-ORIGINAL-URL:https://avonwoods.com
X-WR-CALDESC:Events for Avon Woods Neighborhood
REFRESH-INTERVAL;VALUE=DURATION:PT1H
X-Robots-Tag:noindex
X-PUBLISHED-TTL:PT1H
BEGIN:VTIMEZONE
TZID:America/Chicago
BEGIN:DAYLIGHT
TZOFFSETFROM:-0600
TZOFFSETTO:-0500
TZNAME:CDT
DTSTART:20230312T080000
END:DAYLIGHT
BEGIN:STANDARD
TZOFFSETFROM:-0500
TZOFFSETTO:-0600
TZNAME:CST
DTSTART:20231105T070000
END:STANDARD
BEGIN:DAYLIGHT
TZOFFSETFROM:-0600
TZOFFSETTO:-0500
TZNAME:CDT
DTSTART:20240310T080000
END:DAYLIGHT
BEGIN:STANDARD
TZOFFSETFROM:-0500
TZOFFSETTO:-0600
TZNAME:CST
DTSTART:20241103T070000
END:STANDARD
BEGIN:DAYLIGHT
TZOFFSETFROM:-0600
TZOFFSETTO:-0500
TZNAME:CDT
DTSTART:20250309T080000
END:DAYLIGHT
BEGIN:STANDARD
TZOFFSETFROM:-0500
TZOFFSETTO:-0600
TZNAME:CST
DTSTART:20251102T070000
END:STANDARD
END:VTIMEZONE
BEGIN:VEVENT
DTSTART;TZID=America/Chicago:20240912T183000
DTEND;TZID=America/Chicago:20240912T193000
DTSTAMP:20260422T211318
CREATED:20240805T161359Z
LAST-MODIFIED:20240806T174032Z
UID:3580-1726165800-1726169400@avonwoods.com
SUMMARY:Survival Awareness Training
DESCRIPTION:The Avon Woods Neighborhood Association is sponsoring “Survival Awareness Training” led by retired FBI Special Agent Matthew Campbell\, the evening of Thursday\, Sept. 12. Based on Matt’s extensive experience with critical incidents\, such as active shooters\, assaults\, kidnapping\, and information obtained from thousands of actual FBI cases\, this training will give you the knowledge necessary to identify and avoid potentially dangerous situations as well as how to react if you are involved in one. \n\n\n\nLearn tips for navigating today’s world safely by having a plan for your physical safety at work\, at a shopping mall\, a restaurant\, or any public setting. Attendees will learn what bad guys seek in their victims and how not to be “that person.” Additionally\, some of the training centers on child safety and keeping our children safe in today’s dangerous world. \n\n\n\nPeople leave this training feeling empowered by their new set of skills and confidence they will make the right decisions for their safety and the safety of their families. This education will prepare you to: \n\n\n\n\nIncrease situational awareness\n\n\n\nAnticipate problems\n\n\n\nAvoid patterns\n\n\n\nTrain your mind\n\n\n\nAvoid being a target\n\n\n\nKnow how to flee and how to fight if necessary\n\n\n\nProtect your children and loved ones\n\n\n\n\nAbout Matthew Campbell\n\n\n\nSurvival Awareness Training was created by Matthew Campbell\, who recently retired from the FBI after a 25-year career. Matthew was the leader of an FBI SWAT team that conducted missions critical to our government both in the United States and overseas. He was an FBI Firearms Instructor\, Tactical Instructor\, Self Defense Instructor\, and the Active Shooter Coordinator for the FBI\, Jackson Division. In his 25 years of experience\, Matthew has investigated numerous violent crimes\, including child and adult abductions\, violent robberies and assaults\, as well as white collar crimes. \n\n\n\nNo Cost to Attend \n\n\n\nThis is a free event\, sponsored and paid for by the Avon Woods Neighborhood Association\, and open to all neighborhood residents. \n\n\n\n \n\n\n\nHelp spread the news. Post a link to this page on social media\, email or text the link to your neighbors. \n\n\n\n\n\n\n\nCaution to parents: Although Matt recommends this presentation for both adults and teens\, be aware that there will be discussions about child abductions and pedophiles\, so be guided accordingly.
URL:https://avonwoods.com/event/survival-awareness-training-sept-12/
LOCATION:Independent Presbyterian Church\, 4738 Walnut Grove Rd.\, Memphis\, TN\, 38117\, United States
CATEGORIES:Neighborhood Watch
ATTACH;FMTTYPE=image/jpeg:https://avonwoods.com/wp-content/uploads/2024/08/survival-awareness-training_feature_395287486_750x500.jpg
END:VEVENT
END:VCALENDAR